BEGIN:VCALENDAR
VERSION:2.0
PRODID:-//Indumentaria Online - ECPv6.0.9//NONSGML v1.0//EN
CALSCALE:GREGORIAN
METHOD:PUBLISH
X-WR-CALNAME:Indumentaria Online
X-ORIGINAL-URL:https://www.indumentariaonline.com
X-WR-CALDESC:Eventos para Indumentaria Online
REFRESH-INTERVAL;VALUE=DURATION:PT1H
X-Robots-Tag:noindex
X-PUBLISHED-TTL:PT1H
BEGIN:VTIMEZONE
TZID:America/Argentina/Buenos_Aires
BEGIN:STANDARD
TZOFFSETFROM:-0300
TZOFFSETTO:-0300
TZNAME:-03
DTSTART:20230101T000000
END:STANDARD
END:VTIMEZONE
BEGIN:VEVENT
DTSTART;TZID=America/Argentina/Buenos_Aires:20260414T160000
DTEND;TZID=America/Argentina/Buenos_Aires:20260417T220000
DTSTAMP:20260420T043031
CREATED:20260119T154806Z
LAST-MODIFIED:20260119T155000Z
UID:10000149-1776182400-1776463200@www.indumentariaonline.com
SUMMARY:AGREST TEX 2026
DESCRIPTION:Feria Textil y de Confección
URL:https://www.indumentariaonline.com/evento/agrest-tex-2026/
LOCATION:Polo Caruaru\, Pernambuco\, Pernambuco\, Brasil
CATEGORIES:Eventos Moda,Eventos Textiles,internacionales
ATTACH;FMTTYPE=image/jpeg:https://www.indumentariaonline.com/wp-content/uploads/2026/01/-50_616276.jpg
ORGANIZER;CN="GRUPO%20FEBRATEX":MAILTO:saopaulo@fcem.com.br
END:VEVENT
BEGIN:VEVENT
DTSTART;TZID=America/Argentina/Buenos_Aires:20260316T000000
DTEND;TZID=America/Argentina/Buenos_Aires:20260319T000000
DTSTAMP:20260420T043031
CREATED:20260305T153144Z
LAST-MODIFIED:20260305T153144Z
UID:10000152-1773619200-1773878400@www.indumentariaonline.com
SUMMARY:66°ARGENTINA FASHION WEEK BUENOS AIRES F/W 2026
DESCRIPTION:
URL:https://www.indumentariaonline.com/evento/66argentina-fashion-week-buenos-aires-f-w-2026/2026-03-16/
CATEGORIES:Eventos Moda,Nacionales
ORGANIZER;CN="HVR%20Producciones":MAILTO:espaciomoda@gmail.com
END:VEVENT
BEGIN:VEVENT
DTSTART;TZID=America/Argentina/Buenos_Aires:20260310T000000
DTEND;TZID=America/Argentina/Buenos_Aires:20260313T000000
DTSTAMP:20260420T043031
CREATED:20260311T115918Z
LAST-MODIFIED:20260311T120420Z
UID:10000154-1773100800-1773360000@www.indumentariaonline.com
SUMMARY:XXIV EXINTEX Exhibición Textil de Proveedores Textiles y de Confección
DESCRIPTION:
URL:https://www.indumentariaonline.com/evento/exintex/
LOCATION:Centro Expositor y de Convenciones de Puebla\, Puebla\, Argentina
CATEGORIES:Eventos Moda,Eventos Textiles,internacionales
ATTACH;FMTTYPE=image/jpeg:https://www.indumentariaonline.com/wp-content/uploads/2026/03/-11_248286.jpg
END:VEVENT
BEGIN:VEVENT
DTSTART;TZID=America/Argentina/Buenos_Aires:20260127T000000
DTEND;TZID=America/Argentina/Buenos_Aires:20260129T000000
DTSTAMP:20260420T043031
CREATED:20260127T142815Z
LAST-MODIFIED:20260127T142815Z
UID:10000150-1769472000-1769644800@www.indumentariaonline.com
SUMMARY:COLOMBIATEX DE LAS AMÉRICAS 2026
DESCRIPTION:
URL:https://www.indumentariaonline.com/evento/colombiatex-las-americas-2026/
LOCATION:Plaza Mayor\, Cra 43 No. 9 Sur 195\, Medellin\, Antioquía\, Colombia
CATEGORIES:Eventos Moda,Eventos Textiles,internacionales
ATTACH;FMTTYPE=image/jpeg:https://www.indumentariaonline.com/wp-content/uploads/2026/01/-06_780038.jpg
ORGANIZER;CN="Inexmoda":MAILTO:info@inexmoda.org.co
END:VEVENT
BEGIN:VEVENT
DTSTART;TZID=America/Argentina/Buenos_Aires:20251022T000000
DTEND;TZID=America/Argentina/Buenos_Aires:20251024T000000
DTSTAMP:20260420T043031
CREATED:20250807T153149Z
LAST-MODIFIED:20250807T153149Z
UID:10000140-1761091200-1761264000@www.indumentariaonline.com
SUMMARY:66°ANPIC Feria de Proveedores para la Industria de Calzado\, Marroquinería y Afines
DESCRIPTION:Tendencias Otoño Invierno 2026
URL:https://www.indumentariaonline.com/evento/66anpic-feria-proveedores-industria-calzado-marroquineria-y-afines/
LOCATION:Poliforum León\, Blvd. Adolfo López Mateos esquina Boulevard Francisco Villa s/n\, León\, Guanajuato\, 37510\, México
CATEGORIES:Eventos Calzado / Marroquinería,Eventos Moda,internacionales
ATTACH;FMTTYPE=image/jpeg:https://www.indumentariaonline.com/wp-content/uploads/2025/08/-03_433509.jpg
ORGANIZER;CN="APIMEX%20%20Asociaci%C3%B3n%20de%20Empresas%20Proveedoras%20Industriales%20de%20M%C3%A9xico":MAILTO:servicios@apimex.org
END:VEVENT
BEGIN:VEVENT
DTSTART;TZID=America/Argentina/Buenos_Aires:20250917T000000
DTEND;TZID=America/Argentina/Buenos_Aires:20250921T000000
DTSTAMP:20260420T043031
CREATED:20250621T230438Z
LAST-MODIFIED:20250621T230438Z
UID:10000139-1758067200-1758412800@www.indumentariaonline.com
SUMMARY:MBFW Madrid- Semana de la Moda de Madrid
DESCRIPTION:
URL:https://www.indumentariaonline.com/evento/mbfw-madrid-semana-moda-madrid/
LOCATION:Ifema Madrid\, Av. del Partenón\, 5\, 28042\, Madrid\, España
CATEGORIES:Eventos Moda,internacionales
ATTACH;FMTTYPE=image/jpeg:https://www.indumentariaonline.com/wp-content/uploads/2025/06/-40_548973.jpg
ORGANIZER;CN="Ifema%20Madrid":MAILTO:atencionalcliente@ifema.es
END:VEVENT
BEGIN:VEVENT
DTSTART;TZID=America/Argentina/Buenos_Aires:20250729T000000
DTEND;TZID=America/Argentina/Buenos_Aires:20250731T000000
DTSTAMP:20260420T043031
CREATED:20250521T123301Z
LAST-MODIFIED:20250521T123302Z
UID:10000135-1753747200-1753920000@www.indumentariaonline.com
SUMMARY:COLOMBIAMODA 2025
DESCRIPTION:Semana de la Moda de Colombia
URL:https://www.indumentariaonline.com/evento/colombiamoda-2025-2/
LOCATION:Corferías\, Cra. 37 #24 - 67\, Bogotá\, Colombia
CATEGORIES:Eventos Calzado / Marroquinería,Eventos Moda,Eventos Textiles,internacionales
ATTACH;FMTTYPE=image/jpeg:https://www.indumentariaonline.com/wp-content/uploads/2025/05/-27_950032.jpg
ORGANIZER;CN="Inexmoda":MAILTO:info@inexmoda.org.co
END:VEVENT
BEGIN:VEVENT
DTSTART;TZID=America/Argentina/Buenos_Aires:20250726T100000
DTEND;TZID=America/Argentina/Buenos_Aires:20250727T190000
DTSTAMP:20260420T043031
CREATED:20250619T185332Z
LAST-MODIFIED:20250619T185358Z
UID:10000138-1753524000-1753642800@www.indumentariaonline.com
SUMMARY:80° EXPO MABYN Exposición de Indumentaria Infantil
DESCRIPTION:Primavera Verano 2026
URL:https://www.indumentariaonline.com/evento/80-expo-mabyn-exposicion-indumentaria-infantil/
LOCATION:Golden Center Eventos\, Ciudad Autónoma de Buenos Aires\, Argentina
CATEGORIES:Eventos Moda,Eventos Textiles
ATTACH;FMTTYPE=image/jpeg:https://www.indumentariaonline.com/wp-content/uploads/2025/06/-20_684900.jpg
END:VEVENT
BEGIN:VEVENT
DTSTART;TZID=America/Argentina/Buenos_Aires:20250516T000000
DTEND;TZID=America/Argentina/Buenos_Aires:20250517T000000
DTSTAMP:20260420T043031
CREATED:20250424T164021Z
LAST-MODIFIED:20250424T164021Z
UID:10000130-1747353600-1747440000@www.indumentariaonline.com
SUMMARY:DIA MÁGICO BY FIMI \, Moda de comunión y ceremonia infantil
DESCRIPTION:
URL:https://www.indumentariaonline.com/evento/dia-magico-by-fimi-moda-comunion-y-ceremonia-infantil/
LOCATION:Feria Valencia\, Valencia\, España
CATEGORIES:Eventos Moda,internacionales
ATTACH;FMTTYPE=image/jpeg:https://www.indumentariaonline.com/wp-content/uploads/2025/04/-10_314900.jpg
END:VEVENT
BEGIN:VEVENT
DTSTART;TZID=America/Argentina/Buenos_Aires:20250219T000000
DTEND;TZID=America/Argentina/Buenos_Aires:20250226T000000
DTSTAMP:20260420T043031
CREATED:20241226T210610Z
LAST-MODIFIED:20241226T211126Z
UID:10000124-1739923200-1740528000@www.indumentariaonline.com
SUMMARY:MERCEDES FASHION WEEK O/I 2025
DESCRIPTION:
URL:https://www.indumentariaonline.com/evento/mercedes-fashion-week-o-i-2025/
LOCATION:Ifema Madrid\, Av. del Partenón\, 5\, 28042\, Madrid\, España
CATEGORIES:Eventos Moda,internacionales
ORGANIZER;CN="Ifema%20Madrid":MAILTO:atencionalcliente@ifema.es
END:VEVENT
BEGIN:VEVENT
DTSTART;TZID=America/Argentina/Buenos_Aires:20240521T000000
DTEND;TZID=America/Argentina/Buenos_Aires:20240523T000000
DTSTAMP:20260420T043031
CREATED:20240120T131129Z
LAST-MODIFIED:20240120T131129Z
UID:10000102-1716249600-1716422400@www.indumentariaonline.com
SUMMARY:2° BRAZILIAN FOOTWEAR SHOW
DESCRIPTION:Feria de fabricantes de Calzado
URL:https://www.indumentariaonline.com/evento/2-brazilian-footwear-show/
CATEGORIES:Eventos Calzado / Marroquinería,Eventos Moda,internacionales
ATTACH;FMTTYPE=image/webp:https://www.indumentariaonline.com/wp-content/uploads/2024/01/-47_232688.webp
END:VEVENT
BEGIN:VEVENT
DTSTART;TZID=America/Argentina/Buenos_Aires:20240320T000000
DTEND;TZID=America/Argentina/Buenos_Aires:20240323T000000
DTSTAMP:20260420T043031
CREATED:20240209T183927Z
LAST-MODIFIED:20240209T184606Z
UID:10000107-1710892800-1711152000@www.indumentariaonline.com
SUMMARY:CEMCA 87° Otoño Invierno 2024 + PRESENTES
DESCRIPTION:Pabellón exclusivo solo marroquineria. \nExposición mayorista exclusiva para comercios y profesionales del sector. \n 
URL:https://www.indumentariaonline.com/evento/cemca-87-otono-invierno-2024-presentes/
LOCATION:Predio Ferial La Rural\, Ciudad Autónoma de Buenos Aires
CATEGORIES:Eventos Calzado / Marroquinería,Eventos Moda,Nacionales
ATTACH;FMTTYPE=image/jpeg:https://www.indumentariaonline.com/wp-content/uploads/2024/02/-24_202457.jpg
ORGANIZER;CN="C%C3%A1mara%20Cima":MAILTO:cima@cuerocima.com.ar
END:VEVENT
BEGIN:VEVENT
DTSTART;TZID=America/Argentina/Buenos_Aires:20240315T000000
DTEND;TZID=America/Argentina/Buenos_Aires:20240322T000000
DTSTAMP:20260420T043031
CREATED:20240227T115209Z
LAST-MODIFIED:20240227T115209Z
UID:10000110-1710460800-1711065600@www.indumentariaonline.com
SUMMARY:ARGENTINA FASHION WEEK OTOÑO INVIERNO 2024
DESCRIPTION:
URL:https://www.indumentariaonline.com/evento/argentina-fashion-week-otono-invierno-2024/
LOCATION:Hipódromo de Palermo\, Ciudad Autónoma de Buenos Aires\, Argentina
CATEGORIES:Eventos Moda,Nacionales
ATTACH;FMTTYPE=image/jpeg:https://www.indumentariaonline.com/wp-content/uploads/2024/02/-01_265186.jpg
END:VEVENT
BEGIN:VEVENT
DTSTART;TZID=America/Argentina/Buenos_Aires:20240229T000000
DTEND;TZID=America/Argentina/Buenos_Aires:20240308T000000
DTSTAMP:20260420T043031
CREATED:20240312T143132Z
LAST-MODIFIED:20240312T143132Z
UID:10000111-1709164800-1709856000@www.indumentariaonline.com
SUMMARY:BAFWEEK BUENOS AIRES FASHION WEEK
DESCRIPTION:Edición Otoño Invierno 2024
URL:https://www.indumentariaonline.com/evento/bafweek-buenos-aires-fashion-week/
CATEGORIES:Eventos Moda,Nacionales
END:VEVENT
BEGIN:VEVENT
DTSTART;TZID=America/Argentina/Buenos_Aires:20240206T000000
DTEND;TZID=America/Argentina/Buenos_Aires:20240209T000000
DTSTAMP:20260420T043031
CREATED:20240120T125916Z
LAST-MODIFIED:20240120T125957Z
UID:10000101-1707177600-1707436800@www.indumentariaonline.com
SUMMARY:29° IFLS + EICI 2024
DESCRIPTION:Exhibición Internacional del Cuero e Insumos\, Maquinaria y Tecnología y Servicios +  fabricantes de calzado\, marroquinería\, prendas de vestir en cuero e industrias afines
URL:https://www.indumentariaonline.com/evento/29-ifls-eici-2024/
LOCATION:Corferías\, Cra. 37 #24 - 67\, Bogotá\, Colombia
CATEGORIES:Eventos Calzado / Marroquinería,Eventos Moda,internacionales
ATTACH;FMTTYPE=image/jpeg:https://www.indumentariaonline.com/wp-content/uploads/2024/01/-49_927053.jpg
ORGANIZER;CN="ACICAM-%20Asociaci%C3%B3n%20Colombiana%20de%20Industriales%20de%20Calzado%2C%20el%20Cuero%20y%20sus%20Manufacturas":MAILTO:acicam@acicam.org
END:VEVENT
BEGIN:VEVENT
DTSTART;TZID=America/Argentina/Buenos_Aires:20230913T000000
DTEND;TZID=America/Argentina/Buenos_Aires:20230917T000000
DTSTAMP:20260420T043031
CREATED:20230330T210536Z
LAST-MODIFIED:20230330T210536Z
UID:10000083-1694563200-1694908800@www.indumentariaonline.com
SUMMARY:MERCEDES BENZ FASHION WEEK MADRID 2023
DESCRIPTION:La gran pasarela de moda en España y plataforma de promoción del diseño español
URL:https://www.indumentariaonline.com/evento/mercedes-benz-fashion-week-madrid-2023/
LOCATION:Ifema Madrid\, Av. del Partenón\, 5\, 28042\, Madrid\, España
CATEGORIES:Eventos Moda,internacionales
ATTACH;FMTTYPE=image/jpeg:https://www.indumentariaonline.com/wp-content/uploads/2023/03/-10.jpg
ORGANIZER;CN="Ifema%20Madrid":MAILTO:atencionalcliente@ifema.es
END:VEVENT
BEGIN:VEVENT
DTSTART;TZID=America/Argentina/Buenos_Aires:20230722T100000
DTEND;TZID=America/Argentina/Buenos_Aires:20230723T190000
DTSTAMP:20260420T043031
CREATED:20230705T222614Z
LAST-MODIFIED:20230705T222702Z
UID:10000093-1690020000-1690138800@www.indumentariaonline.com
SUMMARY:76° EXPO MABYN
DESCRIPTION:Exposición de Fabricantes de Indumentaria de Bebés y Niños
URL:https://www.indumentariaonline.com/evento/76-expo-mabyn/
LOCATION:Golden Center\, Int.Cantilo e Int.Guiraldes\, Ciudad Autónoma de Buenos Aires
CATEGORIES:Eventos Moda,Eventos Textiles,Nacionales
ATTACH;FMTTYPE=image/jpeg:https://www.indumentariaonline.com/wp-content/uploads/2023/07/-01_108274.jpg
END:VEVENT
BEGIN:VEVENT
DTSTART;TZID=America/Argentina/Buenos_Aires:20230505T080000
DTEND;TZID=America/Argentina/Buenos_Aires:20230507T170000
DTSTAMP:20260420T043031
CREATED:20230403T213650Z
LAST-MODIFIED:20230403T213737Z
UID:10000084-1683273600-1683478800@www.indumentariaonline.com
SUMMARY:MOWEEK MONTEVIDEO FASHION WEEK
DESCRIPTION:Semana de la Moda de Montevideo\, Uruguay
URL:https://www.indumentariaonline.com/evento/moweek-montevideo-fashion-week/
LOCATION:Criolla Elias Regules\, Avenida Bolivia 2455\, Dr. Elías Regules\, Montevideo\, Uruguay
CATEGORIES:Eventos Moda,internacionales
ATTACH;FMTTYPE=image/jpeg:https://www.indumentariaonline.com/wp-content/uploads/2023/03/-11.jpg
END:VEVENT
BEGIN:VEVENT
DTSTART;TZID=America/Argentina/Buenos_Aires:20230327T110000
DTEND;TZID=America/Argentina/Buenos_Aires:20230331T200000
DTSTAMP:20260420T043031
CREATED:20230326T132318Z
LAST-MODIFIED:20230328T125311Z
UID:10000079-1679914800-1680292800@www.indumentariaonline.com
SUMMARY:60° ARFW Argentina Fashion Week Otoño Invierno 2023
DESCRIPTION:Los desfiles comenzarán puntualmente solamente con invitación. \nLunes 27 \n\n15 Hs.:Benito Fernández / Ivana Picallo /Claudia Arce /María Pryor / Verónica de la Canal\n17 Hs\,: Adriana Costantini\n19 hs: Vizzano ( Brasil)\n\nMartes 28 \n\n15 hs: Eduardo Ocantos\n17 hs: Emprendedoras de Jujuy – Veravia Diseños\, Bonhomia \, La Mismiada\, Gimalu\,Cierre de  Marcelo Senra\n19 hs.: Rosarito\n\nMiércoles 29 \n\n10\,30 hs: Presentación Instituto Marangoni ( Miami)\n14 hs: Amsoar \, Asociación de Moda Sostenible Argentina\n16 hs: Maribí ( Córdoba) Daniel Gram ( EEUU)\n18 HS: Ajayu – Ana Terrasanta ( Tres Arroyos)\n19\,30 hs: Claudia Arce\n\nJueves 30 \n\n11hs: Beira Río ( Brasil)\n15 hs: Micsi Almendra \, Mujeres al Viento (Neuquén)\, Cierre de Francisco Ayala\n18 hs: Camila Romano\n19\,30 hs: Marisa Marana\n\nViernes 31 \n\nGustavo Pucheta
URL:https://www.indumentariaonline.com/evento/60-arfw-argentina-fashion-week-otono-invierno-2023/
LOCATION:Palacio Paz\, Av. Sta. Fe 760\, Ciudad Autónoma de Buenos Aires\, C1059
CATEGORIES:Eventos Moda,Nacionales
ATTACH;FMTTYPE=image/jpeg:https://www.indumentariaonline.com/wp-content/uploads/2023/03/-6.jpg
END:VEVENT
BEGIN:VEVENT
DTSTART;TZID=America/Argentina/Buenos_Aires:20230306T000000
DTEND;TZID=America/Argentina/Buenos_Aires:20230310T000000
DTSTAMP:20260420T043031
CREATED:20230326T132956Z
LAST-MODIFIED:20230326T133049Z
UID:10000080-1678060800-1678406400@www.indumentariaonline.com
SUMMARY:Bafweek Otoño Invierno 2023
DESCRIPTION:
URL:https://www.indumentariaonline.com/evento/bafweek-otono-invierno-2023/
LOCATION:Predio Ferial La Rural\, Ciudad Autónoma de Buenos Aires
CATEGORIES:Eventos Moda,Nacionales
END:VEVENT
END:VCALENDAR